BEGIN:VCALENDAR
PRODID:-//eluceo/ical//2.0/EN
VERSION:2.0
CALSCALE:GREGORIAN
BEGIN:VEVENT
UID:c470bb4502a2016f729adbf5e0eb00e0
DTSTAMP:20260425T002053Z
SUMMARY:Béé team na stopě
DESCRIPTION:
URL:https://letnikino.kzvalmez.cz/udalost/6161-bee-team-na-stope/
DTSTART:20260508T140000
DTEND:20260508T155000
LOCATION:Kino Valmez - Velký sál kina
ORGANIZER;CN=Kino Valmez:mailto:kzvalmez@kzvalmez.cz
END:VEVENT
END:VCALENDAR
