BEGIN:VCALENDAR
PRODID:-//eluceo/ical//2.0/EN
VERSION:2.0
CALSCALE:GREGORIAN
BEGIN:VEVENT
UID:66ed551b89bb6ec66aec81339bbf4f5c
DTSTAMP:20260425T002053Z
SUMMARY:Béé team na stopě
DESCRIPTION:
URL:https://letnikino.kzvalmez.cz/udalost/6161-bee-team-na-stope/
DTSTART:20260501T141500
DTEND:20260501T160500
LOCATION:Kino Valmez - Velký sál kina
ORGANIZER;CN=Kino Valmez:mailto:kzvalmez@kzvalmez.cz
END:VEVENT
END:VCALENDAR
