BEGIN:VCALENDAR
PRODID:-//eluceo/ical//2.0/EN
VERSION:2.0
CALSCALE:GREGORIAN
BEGIN:VEVENT
UID:91b425c2d3df40283f980f8e06bad7dd
DTSTAMP:20260423T074154Z
SUMMARY:Drama
DESCRIPTION:<p>Ve snímku Drama sledujeme dva snoubence\, jejichž vztah pr
 ojde týden před svatbou nečekanou zkouškou. Zdánlivě dokonalý pár 
 je tak vystaven nečekanému dramatu a krizi.</p>
URL:https://letnikino.kzvalmez.cz/udalost/6120-drama/
DTSTART:20260501T170000
DTEND:20260501T184600
LOCATION:Kino Valmez - Velký sál kina
ORGANIZER;CN=Kino Valmez:mailto:kzvalmez@kzvalmez.cz
END:VEVENT
END:VCALENDAR
