BEGIN:VCALENDAR
PRODID:-//eluceo/ical//2.0/EN
VERSION:2.0
CALSCALE:GREGORIAN
BEGIN:VEVENT
UID:24e8a3a85097bcbb385ee4011ed0882a
DTSTAMP:20260422T175834Z
SUMMARY:Kaprálová
DESCRIPTION:<p><span style="text-decoration: underline\;">Jedinečný dokum
 entární film doprovodí beseda s významnou dirigentkou a rodačkou z Va
 lašského Meziříčí\, <strong>Alenou Hron</strong>\, která ve filmu 
 vystupuje.</span></p>\n<p>V předválečné Evropě odjíždí dvaadvaceti
 letá česká skladatelka a dirigentka Vítězslava Kaprálová studovat n
 a prestižní pařížskou konzervatoř s cílem prosadit se v mužském s
 větě hudby. Její dopisy vykreslují studentská léta plná úžasu\, t
 vůrčího zápalu i obav z nuceného exilu. V Paříži tvoří mladá sk
 ladatelka svá největší díla\, její tvůrčí ambice je však zastave
 na náhlou smrtí. Skladby\, které během několika let složila\, dodnes
  znějí na světových pódiích. Ve filmuje slyšíme v podání předn
 ích sólistů – Adama Plachetky\, Stevena Isserlise či dirigentky Alen
 y Hron – i na půdě několika škol\, včetně École Normale de Musiqu
 e de Paris\, kde Kaprálová před necelými 100 lety studovala. Film je n
 ejen portrétem inspirativní skladatelky\, ale i úvahou o tvůrčím odk
 azu\, identitě a překážkách\, kterým ženy v klasické hudbě i nad
 ále čelí.</p>\n<p><em>Režíroval Petr Záruba\, který byl před čase
 m hostem meziříčského kina u příležitosti promítání jeho dokumen
 tu o lezci Adamu Ondrovi.</em></p>
URL:https://letnikino.kzvalmez.cz/udalost/6096-kapralova/
DTSTART:20260429T190000
DTEND:20260429T201000
LOCATION:Kino Valmez - Velký sál kina
ORGANIZER;CN=Kino Valmez:mailto:kzvalmez@kzvalmez.cz
END:VEVENT
END:VCALENDAR
