BEGIN:VCALENDAR
PRODID:-//eluceo/ical//2.0/EN
VERSION:2.0
CALSCALE:GREGORIAN
BEGIN:VEVENT
UID:9a96750e6bf4a068db7664eb45054e9e
DTSTAMP:20260421T010901Z
SUMMARY:Tezeta
DESCRIPTION:<p><em><strong>TEZETA – paměť Etiopie</strong></em></p>\n<p
 ><br />Radomír Odstrčil původem z Valašského Meziříčí\, se v roce
  2019 vydal do Etiopie hledat kořeny tamní populární hudby. Mluvil s n
 ěkolika představiteli hudebníků ze zlaté éry Etiojazzu šedesátých
  a sedmdesátých let. Mapuje hudební scénu v Adis Abebě\, rozhovory s 
 hudebníky\,  etiopskou církevní hudbou v kontextu historických souvis
 lostí. Objevuje také lidovou kulturu a hudbu během následné cesty na 
 sever země\, do Gondaru a Bahir Daru.</p>\n<p>Vstupné dobrovolné.</p>\n
 <p>Bez místenek.</p>
URL:https://letnikino.kzvalmez.cz/udalost/6068-tezeta/
DTSTART:20260427T190000
DTEND:20260427T190000
LOCATION:Kino Valmez - Velký sál kina
ORGANIZER;CN=Kino Valmez:mailto:kzvalmez@kzvalmez.cz
END:VEVENT
END:VCALENDAR
